BEGIN:VCALENDAR
VERSION:2.0
PRODID:-//La Lyre d&#039;Avenches - ECPv6.15.11//NONSGML v1.0//EN
CALSCALE:GREGORIAN
METHOD:PUBLISH
X-ORIGINAL-URL:https://lyre.ch
X-WR-CALDESC:Évènements pour La Lyre d&#039;Avenches
REFRESH-INTERVAL;VALUE=DURATION:PT1H
X-Robots-Tag:noindex
X-PUBLISHED-TTL:PT1H
BEGIN:VTIMEZONE
TZID:Europe/Zurich
BEGIN:DAYLIGHT
TZOFFSETFROM:+0100
TZOFFSETTO:+0200
TZNAME:CEST
DTSTART:20240331T010000
END:DAYLIGHT
BEGIN:STANDARD
TZOFFSETFROM:+0200
TZOFFSETTO:+0100
TZNAME:CET
DTSTART:20241027T010000
END:STANDARD
BEGIN:DAYLIGHT
TZOFFSETFROM:+0100
TZOFFSETTO:+0200
TZNAME:CEST
DTSTART:20250330T010000
END:DAYLIGHT
BEGIN:STANDARD
TZOFFSETFROM:+0200
TZOFFSETTO:+0100
TZNAME:CET
DTSTART:20251026T010000
END:STANDARD
BEGIN:DAYLIGHT
TZOFFSETFROM:+0100
TZOFFSETTO:+0200
TZNAME:CEST
DTSTART:20260329T010000
END:DAYLIGHT
BEGIN:STANDARD
TZOFFSETFROM:+0200
TZOFFSETTO:+0100
TZNAME:CET
DTSTART:20261025T010000
END:STANDARD
BEGIN:DAYLIGHT
TZOFFSETFROM:+0100
TZOFFSETTO:+0200
TZNAME:CEST
DTSTART:20270328T010000
END:DAYLIGHT
BEGIN:STANDARD
TZOFFSETFROM:+0200
TZOFFSETTO:+0100
TZNAME:CET
DTSTART:20271031T010000
END:STANDARD
END:VTIMEZONE
BEGIN:VEVENT
DTSTART;TZID=Europe/Zurich:20260423T193000
DTEND;TZID=Europe/Zurich:20260423T213000
DTSTAMP:20260424T124323
CREATED:20250909T134700Z
LAST-MODIFIED:20250909T134700Z
UID:29889-1776972600-1776979800@lyre.ch
SUMMARY:Générale
DESCRIPTION:
URL:https://lyre.ch/event/generale-32/
LOCATION:Local Avenches\, Avenches\, Vaud\, 1580\, Suisse
CATEGORIES:Calendrier Harmonie
ORGANIZER;CN="Lyre Avenches":MAILTO:info@lyre.ch
END:VEVENT
BEGIN:VEVENT
DTSTART;TZID=Europe/Zurich:20260421T193000
DTEND;TZID=Europe/Zurich:20260421T210000
DTSTAMP:20260424T124323
CREATED:20250909T134637Z
LAST-MODIFIED:20250909T134637Z
UID:29887-1776799800-1776805200@lyre.ch
SUMMARY:Partielle Cuivres
DESCRIPTION:
URL:https://lyre.ch/event/partielle-cuivres-5/
LOCATION:Local Avenches\, Avenches\, Vaud\, 1580\, Suisse
CATEGORIES:Calendrier Harmonie
ORGANIZER;CN="Lyre Avenches":MAILTO:info@lyre.ch
END:VEVENT
BEGIN:VEVENT
DTSTART;TZID=Europe/Zurich:20260416T193000
DTEND;TZID=Europe/Zurich:20260416T213000
DTSTAMP:20260424T124323
CREATED:20250909T134603Z
LAST-MODIFIED:20250909T134603Z
UID:29885-1776367800-1776375000@lyre.ch
SUMMARY:Générale
DESCRIPTION:
URL:https://lyre.ch/event/generale-31/
LOCATION:Local Avenches\, Avenches\, Vaud\, 1580\, Suisse
CATEGORIES:Calendrier Harmonie
ORGANIZER;CN="Lyre Avenches":MAILTO:info@lyre.ch
END:VEVENT
BEGIN:VEVENT
DTSTART;TZID=Europe/Zurich:20260409T193000
DTEND;TZID=Europe/Zurich:20260409T213000
DTSTAMP:20260424T124323
CREATED:20250909T134539Z
LAST-MODIFIED:20250909T134539Z
UID:29883-1775763000-1775770200@lyre.ch
SUMMARY:Générale
DESCRIPTION:
URL:https://lyre.ch/event/generale-30/
LOCATION:Local Avenches\, Avenches\, Vaud\, 1580\, Suisse
CATEGORIES:Calendrier Harmonie
ORGANIZER;CN="Lyre Avenches":MAILTO:info@lyre.ch
END:VEVENT
BEGIN:VEVENT
DTSTART;TZID=Europe/Zurich:20260402T193000
DTEND;TZID=Europe/Zurich:20260402T213000
DTSTAMP:20260424T124323
CREATED:20250909T134509Z
LAST-MODIFIED:20250909T134509Z
UID:29881-1775158200-1775165400@lyre.ch
SUMMARY:Générale
DESCRIPTION:
URL:https://lyre.ch/event/generale-29/
LOCATION:Local Avenches\, Avenches\, Vaud\, 1580\, Suisse
CATEGORIES:Calendrier Harmonie
ORGANIZER;CN="Lyre Avenches":MAILTO:info@lyre.ch
END:VEVENT
BEGIN:VEVENT
DTSTART;TZID=Europe/Zurich:20260328T170000
DTEND;TZID=Europe/Zurich:20260328T230000
DTSTAMP:20260424T124323
CREATED:20250909T134349Z
LAST-MODIFIED:20250909T134349Z
UID:29879-1774717200-1774738800@lyre.ch
SUMMARY:Concert annuel
DESCRIPTION:Tenue : Uniforme (sans casquette)\nrendez-vous et horaire à confirmer
URL:https://lyre.ch/event/concert-annuel-2/
LOCATION:Théâtre du château\, Avenches\, Vaud\, 1580\, Suisse
CATEGORIES:Calendrier Harmonie
ORGANIZER;CN="Lyre Avenches":MAILTO:info@lyre.ch
END:VEVENT
BEGIN:VEVENT
DTSTART;TZID=Europe/Zurich:20260327T193000
DTEND;TZID=Europe/Zurich:20260327T213000
DTSTAMP:20260424T124323
CREATED:20250909T134247Z
LAST-MODIFIED:20250909T134247Z
UID:29877-1774639800-1774647000@lyre.ch
SUMMARY:Générale
DESCRIPTION:
URL:https://lyre.ch/event/generale-28/
LOCATION:Théâtre du château\, Avenches\, Vaud\, 1580\, Suisse
CATEGORIES:Calendrier Harmonie
ORGANIZER;CN="Lyre Avenches":MAILTO:info@lyre.ch
END:VEVENT
BEGIN:VEVENT
DTSTART;TZID=Europe/Zurich:20260324T193000
DTEND;TZID=Europe/Zurich:20260324T213000
DTSTAMP:20260424T124323
CREATED:20250909T134200Z
LAST-MODIFIED:20250909T134200Z
UID:29875-1774380600-1774387800@lyre.ch
SUMMARY:Générale
DESCRIPTION:
URL:https://lyre.ch/event/generale-27/
LOCATION:Théâtre du château\, Avenches\, Vaud\, 1580\, Suisse
CATEGORIES:Calendrier Harmonie
ORGANIZER;CN="Lyre Avenches":MAILTO:info@lyre.ch
END:VEVENT
BEGIN:VEVENT
DTSTART;TZID=Europe/Zurich:20260322T080000
DTEND;TZID=Europe/Zurich:20260322T120000
DTSTAMP:20260424T124323
CREATED:20250909T134127Z
LAST-MODIFIED:20250909T134127Z
UID:29873-1774166400-1774180800@lyre.ch
SUMMARY:Matinée musicale
DESCRIPTION:
URL:https://lyre.ch/event/matinee-musicale/
LOCATION:Local Avenches\, Avenches\, Vaud\, 1580\, Suisse
CATEGORIES:Calendrier Harmonie
ORGANIZER;CN="Lyre Avenches":MAILTO:info@lyre.ch
END:VEVENT
BEGIN:VEVENT
DTSTART;TZID=Europe/Zurich:20260319T193000
DTEND;TZID=Europe/Zurich:20260319T213000
DTSTAMP:20260424T124323
CREATED:20250909T134002Z
LAST-MODIFIED:20250909T134002Z
UID:29871-1773948600-1773955800@lyre.ch
SUMMARY:Générale
DESCRIPTION:
URL:https://lyre.ch/event/generale-26/
LOCATION:Local Avenches\, Avenches\, Vaud\, 1580\, Suisse
CATEGORIES:Calendrier Harmonie
ORGANIZER;CN="Lyre Avenches":MAILTO:info@lyre.ch
END:VEVENT
BEGIN:VEVENT
DTSTART;TZID=Europe/Zurich:20260317T193000
DTEND;TZID=Europe/Zurich:20260317T213000
DTSTAMP:20260424T124323
CREATED:20250909T133939Z
LAST-MODIFIED:20250909T133939Z
UID:29869-1773775800-1773783000@lyre.ch
SUMMARY:Générale
DESCRIPTION:
URL:https://lyre.ch/event/generale-25/
LOCATION:Local Avenches\, Avenches\, Vaud\, 1580\, Suisse
CATEGORIES:Calendrier Harmonie
ORGANIZER;CN="Lyre Avenches":MAILTO:info@lyre.ch
END:VEVENT
BEGIN:VEVENT
DTSTART;TZID=Europe/Zurich:20260312T193000
DTEND;TZID=Europe/Zurich:20260312T213000
DTSTAMP:20260424T124323
CREATED:20250909T133900Z
LAST-MODIFIED:20250909T133900Z
UID:29867-1773343800-1773351000@lyre.ch
SUMMARY:Générale
DESCRIPTION:
URL:https://lyre.ch/event/generale-24/
LOCATION:Local Avenches\, Avenches\, Vaud\, 1580\, Suisse
CATEGORIES:Calendrier Harmonie
ORGANIZER;CN="Lyre Avenches":MAILTO:info@lyre.ch
END:VEVENT
BEGIN:VEVENT
DTSTART;TZID=Europe/Zurich:20260310T193000
DTEND;TZID=Europe/Zurich:20260310T213000
DTSTAMP:20260424T124323
CREATED:20250909T133834Z
LAST-MODIFIED:20250909T133834Z
UID:29865-1773171000-1773178200@lyre.ch
SUMMARY:Générale
DESCRIPTION:
URL:https://lyre.ch/event/generale-23/
LOCATION:Local Avenches\, Avenches\, Vaud\, 1580\, Suisse
CATEGORIES:Calendrier Harmonie
ORGANIZER;CN="Lyre Avenches":MAILTO:info@lyre.ch
END:VEVENT
BEGIN:VEVENT
DTSTART;TZID=Europe/Zurich:20260305T193000
DTEND;TZID=Europe/Zurich:20260305T213000
DTSTAMP:20260424T124323
CREATED:20250909T133113Z
LAST-MODIFIED:20250909T133113Z
UID:29863-1772739000-1772746200@lyre.ch
SUMMARY:Générale
DESCRIPTION:
URL:https://lyre.ch/event/generale-22/
LOCATION:Local Avenches\, Avenches\, Vaud\, 1580\, Suisse
CATEGORIES:Calendrier Harmonie
ORGANIZER;CN="Lyre Avenches":MAILTO:info@lyre.ch
END:VEVENT
BEGIN:VEVENT
DTSTART;TZID=Europe/Zurich:20260303T193000
DTEND;TZID=Europe/Zurich:20260303T210000
DTSTAMP:20260424T124323
CREATED:20250909T133039Z
LAST-MODIFIED:20250909T133039Z
UID:29861-1772566200-1772571600@lyre.ch
SUMMARY:Partielle Bois
DESCRIPTION:
URL:https://lyre.ch/event/partielle-bois-4/
LOCATION:Local Avenches\, Avenches\, Vaud\, 1580\, Suisse
CATEGORIES:Calendrier Harmonie
ORGANIZER;CN="Lyre Avenches":MAILTO:info@lyre.ch
END:VEVENT
BEGIN:VEVENT
DTSTART;TZID=Europe/Zurich:20260226T193000
DTEND;TZID=Europe/Zurich:20260226T213000
DTSTAMP:20260424T124323
CREATED:20250909T131351Z
LAST-MODIFIED:20250909T131351Z
UID:29857-1772134200-1772141400@lyre.ch
SUMMARY:Générale
DESCRIPTION:
URL:https://lyre.ch/event/generale-21/
LOCATION:Local Avenches\, Avenches\, Vaud\, 1580\, Suisse
CATEGORIES:Calendrier Harmonie
ORGANIZER;CN="Lyre Avenches":MAILTO:info@lyre.ch
END:VEVENT
BEGIN:VEVENT
DTSTART;TZID=Europe/Zurich:20260224T193000
DTEND;TZID=Europe/Zurich:20260224T210000
DTSTAMP:20260424T124323
CREATED:20250909T131329Z
LAST-MODIFIED:20250909T131329Z
UID:29855-1771961400-1771966800@lyre.ch
SUMMARY:Partielle Bois
DESCRIPTION:
URL:https://lyre.ch/event/partielle-bois-3/
LOCATION:Local Avenches\, Avenches\, Vaud\, 1580\, Suisse
CATEGORIES:Calendrier Harmonie
ORGANIZER;CN="Lyre Avenches":MAILTO:info@lyre.ch
END:VEVENT
BEGIN:VEVENT
DTSTART;TZID=Europe/Zurich:20260219T193000
DTEND;TZID=Europe/Zurich:20260219T213000
DTSTAMP:20260424T124323
CREATED:20250909T131301Z
LAST-MODIFIED:20250909T131301Z
UID:29853-1771529400-1771536600@lyre.ch
SUMMARY:Générale
DESCRIPTION:
URL:https://lyre.ch/event/generale-20/
LOCATION:Local Avenches\, Avenches\, Vaud\, 1580\, Suisse
CATEGORIES:Calendrier Harmonie
ORGANIZER;CN="Lyre Avenches":MAILTO:info@lyre.ch
END:VEVENT
BEGIN:VEVENT
DTSTART;TZID=Europe/Zurich:20260212T193000
DTEND;TZID=Europe/Zurich:20260212T213000
DTSTAMP:20260424T124323
CREATED:20250909T131230Z
LAST-MODIFIED:20250909T131230Z
UID:29851-1770924600-1770931800@lyre.ch
SUMMARY:Générale
DESCRIPTION:
URL:https://lyre.ch/event/generale-19/
LOCATION:Local Avenches\, Avenches\, Vaud\, 1580\, Suisse
CATEGORIES:Calendrier Harmonie
ORGANIZER;CN="Lyre Avenches":MAILTO:info@lyre.ch
END:VEVENT
BEGIN:VEVENT
DTSTART;TZID=Europe/Zurich:20260210T193000
DTEND;TZID=Europe/Zurich:20260210T210000
DTSTAMP:20260424T124323
CREATED:20250909T131159Z
LAST-MODIFIED:20250909T131159Z
UID:29849-1770751800-1770757200@lyre.ch
SUMMARY:Partielle Cuivres
DESCRIPTION:
URL:https://lyre.ch/event/partielle-cuivres-4/
LOCATION:Local Avenches\, Avenches\, Vaud\, 1580\, Suisse
CATEGORIES:Calendrier Harmonie
ORGANIZER;CN="Lyre Avenches":MAILTO:info@lyre.ch
END:VEVENT
BEGIN:VEVENT
DTSTART;TZID=Europe/Zurich:20260205T193000
DTEND;TZID=Europe/Zurich:20260205T213000
DTSTAMP:20260424T124323
CREATED:20250909T131124Z
LAST-MODIFIED:20250909T131124Z
UID:29847-1770319800-1770327000@lyre.ch
SUMMARY:Générale
DESCRIPTION:
URL:https://lyre.ch/event/generale-18/
LOCATION:Local Avenches\, Avenches\, Vaud\, 1580\, Suisse
CATEGORIES:Calendrier Harmonie
ORGANIZER;CN="Lyre Avenches":MAILTO:info@lyre.ch
END:VEVENT
BEGIN:VEVENT
DTSTART;TZID=Europe/Zurich:20260203T193000
DTEND;TZID=Europe/Zurich:20260203T210000
DTSTAMP:20260424T124323
CREATED:20250909T131057Z
LAST-MODIFIED:20250909T131057Z
UID:29845-1770147000-1770152400@lyre.ch
SUMMARY:Partielle Trombones / Euphos / Basses
DESCRIPTION:
URL:https://lyre.ch/event/partielle-trombones-euphos-basses-2/
LOCATION:Local Avenches\, Avenches\, Vaud\, 1580\, Suisse
CATEGORIES:Calendrier Harmonie
ORGANIZER;CN="Lyre Avenches":MAILTO:info@lyre.ch
END:VEVENT
BEGIN:VEVENT
DTSTART;TZID=Europe/Zurich:20260129T193000
DTEND;TZID=Europe/Zurich:20260129T213000
DTSTAMP:20260424T124323
CREATED:20250909T130953Z
LAST-MODIFIED:20250909T130953Z
UID:29843-1769715000-1769722200@lyre.ch
SUMMARY:Assemblée Générale
DESCRIPTION:
URL:https://lyre.ch/event/assemblee-generale-2/
LOCATION:Local Avenches\, Avenches\, Vaud\, 1580\, Suisse
CATEGORIES:Calendrier Harmonie
ORGANIZER;CN="Lyre Avenches":MAILTO:info@lyre.ch
END:VEVENT
BEGIN:VEVENT
DTSTART;TZID=Europe/Zurich:20260127T193000
DTEND;TZID=Europe/Zurich:20260127T210000
DTSTAMP:20260424T124323
CREATED:20250909T130832Z
LAST-MODIFIED:20250909T130832Z
UID:29841-1769542200-1769547600@lyre.ch
SUMMARY:Partielle Trompettes
DESCRIPTION:
URL:https://lyre.ch/event/partielle-trompettes/
LOCATION:Local Avenches\, Avenches\, Vaud\, 1580\, Suisse
CATEGORIES:Calendrier Harmonie
ORGANIZER;CN="Lyre Avenches":MAILTO:info@lyre.ch
END:VEVENT
BEGIN:VEVENT
DTSTART;TZID=Europe/Zurich:20260122T193000
DTEND;TZID=Europe/Zurich:20260122T213000
DTSTAMP:20260424T124323
CREATED:20250909T130756Z
LAST-MODIFIED:20250909T130756Z
UID:29839-1769110200-1769117400@lyre.ch
SUMMARY:Générale
DESCRIPTION:
URL:https://lyre.ch/event/generale-17/
LOCATION:Local Avenches\, Avenches\, Vaud\, 1580\, Suisse
CATEGORIES:Calendrier Harmonie
ORGANIZER;CN="Lyre Avenches":MAILTO:info@lyre.ch
END:VEVENT
BEGIN:VEVENT
DTSTART;TZID=Europe/Zurich:20260120T193000
DTEND;TZID=Europe/Zurich:20260120T210000
DTSTAMP:20260424T124323
CREATED:20250909T130725Z
LAST-MODIFIED:20250909T130725Z
UID:29837-1768937400-1768942800@lyre.ch
SUMMARY:Partielle Sax / Altos
DESCRIPTION:
URL:https://lyre.ch/event/partielle-sax-altos-2/
LOCATION:Local Avenches\, Avenches\, Vaud\, 1580\, Suisse
CATEGORIES:Calendrier Harmonie
ORGANIZER;CN="Lyre Avenches":MAILTO:info@lyre.ch
END:VEVENT
BEGIN:VEVENT
DTSTART;TZID=Europe/Zurich:20260115T193000
DTEND;TZID=Europe/Zurich:20260115T213000
DTSTAMP:20260424T124323
CREATED:20250909T130644Z
LAST-MODIFIED:20250909T130644Z
UID:29835-1768505400-1768512600@lyre.ch
SUMMARY:Générale
DESCRIPTION:
URL:https://lyre.ch/event/generale-16/
LOCATION:Local Avenches\, Avenches\, Vaud\, 1580\, Suisse
CATEGORIES:Calendrier Harmonie
ORGANIZER;CN="Lyre Avenches":MAILTO:info@lyre.ch
END:VEVENT
BEGIN:VEVENT
DTSTART;TZID=Europe/Zurich:20260113T193000
DTEND;TZID=Europe/Zurich:20260113T210000
DTSTAMP:20260424T124323
CREATED:20250909T130548Z
LAST-MODIFIED:20250909T130548Z
UID:29833-1768332600-1768338000@lyre.ch
SUMMARY:Partielle Clarinettes / Flûtes
DESCRIPTION:
URL:https://lyre.ch/event/partielle-clarinettes-flutes-2/
LOCATION:Local Avenches\, Avenches\, Vaud\, 1580\, Suisse
CATEGORIES:Calendrier Harmonie
ORGANIZER;CN="Lyre Avenches":MAILTO:info@lyre.ch
END:VEVENT
BEGIN:VEVENT
DTSTART;TZID=Europe/Zurich:20260108T193000
DTEND;TZID=Europe/Zurich:20260108T213000
DTSTAMP:20260424T124323
CREATED:20250909T130509Z
LAST-MODIFIED:20250909T130509Z
UID:29831-1767900600-1767907800@lyre.ch
SUMMARY:Générale
DESCRIPTION:
URL:https://lyre.ch/event/generale-15/
LOCATION:Local Avenches\, Avenches\, Vaud\, 1580\, Suisse
CATEGORIES:Calendrier Harmonie
ORGANIZER;CN="Lyre Avenches":MAILTO:info@lyre.ch
END:VEVENT
BEGIN:VEVENT
DTSTART;TZID=Europe/Zurich:20251218T193000
DTEND;TZID=Europe/Zurich:20251218T210000
DTSTAMP:20260424T124323
CREATED:20250909T130440Z
LAST-MODIFIED:20250909T130440Z
UID:29829-1766086200-1766091600@lyre.ch
SUMMARY:Générale + Noël canadien
DESCRIPTION:Tout est dans le titre
URL:https://lyre.ch/event/generale-noel-canadien/
LOCATION:Local Avenches\, Avenches\, Vaud\, 1580\, Suisse
CATEGORIES:Calendrier Harmonie
ORGANIZER;CN="Lyre Avenches":MAILTO:info@lyre.ch
END:VEVENT
END:VCALENDAR